BEGIN:VCALENDAR
VERSION:2.0
PRODID:-//AZTWS - ECPv6.15.20//NONSGML v1.0//EN
CALSCALE:GREGORIAN
METHOD:PUBLISH
X-WR-CALNAME:AZTWS
X-ORIGINAL-URL:https://aztws.com
X-WR-CALDESC:Events for AZTWS
REFRESH-INTERVAL;VALUE=DURATION:PT1H
X-Robots-Tag:noindex
X-PUBLISHED-TTL:PT1H
BEGIN:VTIMEZONE
TZID:America/Phoenix
BEGIN:STANDARD
TZOFFSETFROM:-0700
TZOFFSETTO:-0700
TZNAME:MST
DTSTART:20250101T000000
END:STANDARD
END:VTIMEZONE
BEGIN:VEVENT
DTSTART;VALUE=DATE:20260427
DTEND;VALUE=DATE:20260518
DTSTAMP:20260424T194114
CREATED:20251222T232140Z
LAST-MODIFIED:20251222T232140Z
UID:4634-1777248000-1779062399@aztws.com
SUMMARY:Grasslands Wildlife Area pond construction
DESCRIPTION:Amphibian and Reptile Conservancy\, in partnership with Arizona Game and Fish Department and Wetland Restoration Training LLC\, is asking for volunteers to help enhance and restore several ponds on the White Mountain Grasslands Wildlife Area near Springerville in eastern Arizona. We will be improving six ponds across the Wildlife Area by installing a lining in the bottoms\, which will increase the water availability and permanence to benefit native species such as Chiricahua leopard frogs\, Little Colorado River spinedace\, and pronghorn. \n  \nThe requested labor includes removing rocks from the dry pond bottoms\, placing and securing liners\, and reseeding banks afterwards. Volunteers will be needed April 27- May 17\, 2026\, but most assistance will be needed during Thursday-Saturday of each week (Apr 30-May 2\, May 7-9\, and May 14-16). Tools such as shovels\, rakes\, and work gloves will be provided\, but feel free to bring your own if you have them. \n  \nOn-site camping is available for free at Grasslands Wildlife Area (bring your own camping gear) for volunteers assisting with the project. Camping will be primitive\, with a portable toilet available for use\, but no showers or other facilities are guaranteed.  For those who prefer lodging\, please check hotels in nearby Springerville. \n  \nIf you are interested in volunteering\, please visit tinyurl.com/Grasslands-Restoration\, or use the QR code below for the sign up form. \n  \nPlease contact Becca at bcozad@ARCProtects.org with any questions! \n \n  \n  \n  \n \nLeft\, volunteers clearing a pond bottom of debris. Right\, volunteers placing pond liner
URL:https://aztws.com/event/grasslands_restoration_2026/
LOCATION:Grasslands Wildlife Area
CATEGORIES:Volunteer Opportunity
ATTACH;FMTTYPE=image/png:https://aztws.com/wp-content/uploads/2021/12/VolunteerOpportunity.png
END:VEVENT
END:VCALENDAR