BEGIN:VCALENDAR
VERSION:2.0
PRODID:-//AZTWS - ECPv6.15.20//NONSGML v1.0//EN
CALSCALE:GREGORIAN
METHOD:PUBLISH
X-ORIGINAL-URL:https://aztws.com
X-WR-CALDESC:Events for AZTWS
REFRESH-INTERVAL;VALUE=DURATION:PT1H
X-Robots-Tag:noindex
X-PUBLISHED-TTL:PT1H
BEGIN:VTIMEZONE
TZID:America/Phoenix
BEGIN:STANDARD
TZOFFSETFROM:-0700
TZOFFSETTO:-0700
TZNAME:MST
DTSTART:20250101T000000
END:STANDARD
END:VTIMEZONE
BEGIN:VEVENT
DTSTART;TZID=America/Phoenix:20260328T090000
DTEND;TZID=America/Phoenix:20260329T150000
DTSTAMP:20260424T211955
CREATED:20260126T212056Z
LAST-MODIFIED:20260126T212056Z
UID:4665-1774688400-1774796400@aztws.com
SUMMARY:Arizona Game and Fish Department Outdoor Expo
DESCRIPTION:Dates: March 28–29\, 2026Time: 9:00 AM – 3:00 PM (both days)Location: Ben Avery Shooting Facility\, Phoenix\, ArizonaCost: Free admission and parking \nEvent SummaryThe Arizona Game and Fish Department Outdoor Expo is Arizona’s largest hands-on outdoor and conservation event. Held annually at the Ben Avery Shooting Facility\, the Expo brings together wildlife conservation\, outdoor recreation\, education\, and family-friendly activities in one place. \nAttendees can explore wildlife exhibits\, conservation education booths\, outdoor recreation demonstrations\, and interactive activities such as youth fishing tanks and hands-on learning stations. The event features a wide range of exhibitors\, including conservation organizations\, government agencies\, and outdoor recreation groups\, making it a great opportunity to learn more about Arizona’s wildlife\, habitats\, and outdoor opportunities. \nWhy Attend \n\nLearn about Arizona wildlife and conservation programs\nExplore careers\, internships\, and educational opportunities in natural resources\nConnect with agencies\, organizations\, and outdoor professionals\nFamily-friendly event with hands-on activities\n\nSee website for more info
URL:https://aztws.com/event/event_outdoor_expo_2026/
LOCATION:Ben Avery Shooting Facility\, 4044 W Black Canyon Blvd\, Phoenix\, AZ\, 85086\, United States
CATEGORIES:Sponsored Event
ATTACH;FMTTYPE=image/png:https://aztws.com/wp-content/uploads/2021/12/UpcomingEvent-1.png
ORGANIZER;CN="Arizona Game and Fish Department":MAILTO:azferret@azgfd.gov
END:VEVENT
END:VCALENDAR