BEGIN:VCALENDAR
VERSION:2.0
PRODID:-//AZTWS - ECPv6.15.20//NONSGML v1.0//EN
CALSCALE:GREGORIAN
METHOD:PUBLISH
X-WR-CALNAME:AZTWS
X-ORIGINAL-URL:https://aztws.com
X-WR-CALDESC:Events for AZTWS
REFRESH-INTERVAL;VALUE=DURATION:PT1H
X-Robots-Tag:noindex
X-PUBLISHED-TTL:PT1H
BEGIN:VTIMEZONE
TZID:America/Phoenix
BEGIN:STANDARD
TZOFFSETFROM:-0700
TZOFFSETTO:-0700
TZNAME:MST
DTSTART:20250101T000000
END:STANDARD
END:VTIMEZONE
BEGIN:VEVENT
DTSTART;TZID=America/Phoenix:20260617T180000
DTEND;TZID=America/Phoenix:20260625T200000
DTSTAMP:20260423T044639
CREATED:20260423T013221Z
LAST-MODIFIED:20260423T013259Z
UID:4827-1781719200-1782417600@aztws.com
SUMMARY:Flashing Firefly Trainings
DESCRIPTION:Interested in learning more about flashing fireflies and how to survey for them? Several training opportunities will be offered this summer\, each featuring both a classroom and field portion. \nThese trainings will cover firefly basics\, firefly identification\, and the Firefly Atlas survey protocol and data sheet. Each training is limited to 30 attendees. \nPlease bring a headlamp with a red light if you have one. A few extras will be available for the evening if needed. \nTraining Dates and Locations \nJune 17\, 2026Beaver Creek Public Library\, Rimrock6:00 PM to 8:00 PM \nJune 18\, 2026Red Rock Ranger District\, Sedona5:30 PM to 8:00 PMThis training begins slightly earlier to allow for drive time to the field site. \nJune 24\, 2026Verde Villages Community Connection4855 Broken Saddle Dr\, Cottonwood6:00 PM to 8:00 PM \nJune 25\, 2026Verde Ranger District Office\, Camp Verde6:00 PM to 8:00 PM \nAdditional details will be sent closer to the training dates. Once a training fills\, it will be marked as full and participants may choose to join a waitlist. \nSign up here:https://bit.ly/2026FireflyTraining
URL:https://aztws.com/event/flashing_firefly_trainings/
CATEGORIES:Volunteer Opportunity
ATTACH;FMTTYPE=image/png:https://aztws.com/wp-content/uploads/2021/12/VolunteerOpportunity.png
END:VEVENT
END:VCALENDAR