BEGIN:VCALENDAR
VERSION:2.0
PRODID:-//AZTWS - ECPv6.15.20//NONSGML v1.0//EN
CALSCALE:GREGORIAN
METHOD:PUBLISH
X-WR-CALNAME:AZTWS
X-ORIGINAL-URL:https://aztws.com
X-WR-CALDESC:Events for AZTWS
REFRESH-INTERVAL;VALUE=DURATION:PT1H
X-Robots-Tag:noindex
X-PUBLISHED-TTL:PT1H
BEGIN:VTIMEZONE
TZID:America/Phoenix
BEGIN:STANDARD
TZOFFSETFROM:-0700
TZOFFSETTO:-0700
TZNAME:MST
DTSTART:20140101T000000
END:STANDARD
END:VTIMEZONE
BEGIN:VEVENT
DTSTART;TZID=America/Phoenix:20150427T150000
DTEND;TZID=America/Phoenix:20150427T170000
DTSTAMP:20260421T015243
CREATED:20150428T053854Z
LAST-MODIFIED:20150819T155614Z
UID:368-1430146800-1430154000@aztws.com
SUMMARY:April 2015 Board Meeting
DESCRIPTION:April 2015 Board Meeting for AZTWS Board Members to discuss Chapter business.
URL:https://aztws.com/event/april-2015-board-meeting/
CATEGORIES:Board Meeting
ORGANIZER;CN="Arizona Chapter of the Wildlife Society":MAILTO:arizonatws@gmail.com
END:VEVENT
END:VCALENDAR