BEGIN:VCALENDAR
VERSION:2.0
PRODID:-//AZTWS - ECPv6.15.20//NONSGML v1.0//EN
CALSCALE:GREGORIAN
METHOD:PUBLISH
X-WR-CALNAME:AZTWS
X-ORIGINAL-URL:https://aztws.com
X-WR-CALDESC:Events for AZTWS
REFRESH-INTERVAL;VALUE=DURATION:PT1H
X-Robots-Tag:noindex
X-PUBLISHED-TTL:PT1H
BEGIN:VTIMEZONE
TZID:America/Phoenix
BEGIN:STANDARD
TZOFFSETFROM:-0700
TZOFFSETTO:-0700
TZNAME:MST
DTSTART:20250101T000000
END:STANDARD
END:VTIMEZONE
BEGIN:VEVENT
DTSTART;VALUE=DATE:20260424
DTEND;VALUE=DATE:20260427
DTSTAMP:20260424T014139
CREATED:20260407T045631Z
LAST-MODIFIED:20260407T045632Z
UID:4789-1776988800-1777247999@aztws.com
SUMMARY:Navajo Nation Bioblitz
DESCRIPTION:The Navajo Natural Heritage Program is hosting the 1st Annual Navajo Nation Bioblitz as part of the City Nature Challenge! \nEvent Details: \n\nDates: April 24–26\, 2026\nLocation: Across the Navajo Nation (with in-person activities at Asaayi Lake)\n\nThis event focuses on documenting biodiversity across Diné Bikéyah and is open to all experience levels. \nWays to Participate: \n\nIn-person (Asaayi Lake):\n\nGuided field surveys\, nature exploration\, and optional camping\nRegistration required by April 17 (limited space)\n\n\nAnywhere on Navajo Nation:\n\nSubmit observations using the iNaturalist app\nNo registration required\n\n\n\nParticipants will contribute observations through iNaturalist as part of the global City Nature Challenge\, helping document and showcase biodiversity across the Navajo Nation! \nSee the flyer below for registration details and additional information.
URL:https://aztws.com/event/navajo_nation_bioblitz_2026/
CATEGORIES:Volunteer Opportunity
ATTACH;FMTTYPE=image/png:https://aztws.com/wp-content/uploads/2021/12/UpcomingEvent-1.png
END:VEVENT
BEGIN:VEVENT
DTSTART;VALUE=DATE:20260424
DTEND;VALUE=DATE:20260428
DTSTAMP:20260424T014139
CREATED:20260223T195427Z
LAST-MODIFIED:20260223T195716Z
UID:4699-1776988800-1777334399@aztws.com
SUMMARY:City Nature Challenge 2026
DESCRIPTION:Join the Greater Phoenix community for the 2026 City Nature Challenge\, a global citizen science event that invites anyone—regardless of scientific training—to document local wildlife and contribute to real scientific research. \nDuring this four-day event\, participants across the Phoenix Metro area will record observations of plants\, animals\, fungi\, and other organisms using the iNaturalist app. Cities around the world compete in a fun\, friendly challenge to see who can document the most observations and species. The data collected help scientists study biodiversity and better understand our natural world! \nHow to Participate\n\nDownload the iNaturalist app and create an account.\nJoin the Greater Phoenix CNC Project.\nStart observing wildlife anywhere in the Greater Phoenix area between April 24–27.\n\nWhether you’re hiking\, birding\, botanizing\, or simply exploring your neighborhood\, your observations count. \nDouble Your Impact\nApril is Citizen Science Month. Participants are encouraged to connect their iNaturalist account to SciStarter to earn credit\, explore additional projects\, and help measure the collective impact of citizen science. By linking accounts\, all your observations automatically count toward broader citizen science goal \nDownload the Flyer Below for more information! \nPhxCNC_Postcard2026.pdf
URL:https://aztws.com/event/city-nature-challenge-2026/
CATEGORIES:Volunteer Opportunity
ATTACH;FMTTYPE=image/png:https://aztws.com/wp-content/uploads/2021/12/UpcomingEvent-1.png
END:VEVENT
END:VCALENDAR